BEGIN:VCALENDAR
VERSION:2.0
PRODID:-//Lustre Christian High School - ECPv6.15.20//NONSGML v1.0//EN
CALSCALE:GREGORIAN
METHOD:PUBLISH
X-WR-CALNAME:Lustre Christian High School
X-ORIGINAL-URL:https://www.lustrechristian.org
X-WR-CALDESC:Events for Lustre Christian High School
REFRESH-INTERVAL;VALUE=DURATION:PT1H
X-Robots-Tag:noindex
X-PUBLISHED-TTL:PT1H
BEGIN:VTIMEZONE
TZID:America/Denver
BEGIN:DAYLIGHT
TZOFFSETFROM:-0700
TZOFFSETTO:-0600
TZNAME:MDT
DTSTART:20240310T090000
END:DAYLIGHT
BEGIN:STANDARD
TZOFFSETFROM:-0600
TZOFFSETTO:-0700
TZNAME:MST
DTSTART:20241103T080000
END:STANDARD
BEGIN:DAYLIGHT
TZOFFSETFROM:-0700
TZOFFSETTO:-0600
TZNAME:MDT
DTSTART:20250309T090000
END:DAYLIGHT
BEGIN:STANDARD
TZOFFSETFROM:-0600
TZOFFSETTO:-0700
TZNAME:MST
DTSTART:20251102T080000
END:STANDARD
BEGIN:DAYLIGHT
TZOFFSETFROM:-0700
TZOFFSETTO:-0600
TZNAME:MDT
DTSTART:20260308T090000
END:DAYLIGHT
BEGIN:STANDARD
TZOFFSETFROM:-0600
TZOFFSETTO:-0700
TZNAME:MST
DTSTART:20261101T080000
END:STANDARD
END:VTIMEZONE
BEGIN:VEVENT
DTSTART;TZID=America/Denver:20250324T120000
DTEND;TZID=America/Denver:20250324T123000
DTSTAMP:20260421T142138
CREATED:20250303T005126Z
LAST-MODIFIED:20250303T005126Z
UID:10002575-1742817600-1742819400@www.lustrechristian.org
SUMMARY:Lunch - Chicken Rice
DESCRIPTION:
URL:https://www.lustrechristian.org/event/lunch-chicken-rice-7/
END:VEVENT
BEGIN:VEVENT
DTSTART;TZID=America/Denver:20250321T120000
DTEND;TZID=America/Denver:20250321T123000
DTSTAMP:20260421T142138
CREATED:20250303T005042Z
LAST-MODIFIED:20250303T005042Z
UID:10002574-1742558400-1742560200@www.lustrechristian.org
SUMMARY:Lunch - Pizza Rounds
DESCRIPTION:
URL:https://www.lustrechristian.org/event/lunch-pizza-rounds-2/
END:VEVENT
BEGIN:VEVENT
DTSTART;TZID=America/Denver:20250320T120000
DTEND;TZID=America/Denver:20250320T123000
DTSTAMP:20260421T142138
CREATED:20250303T005004Z
LAST-MODIFIED:20250303T005004Z
UID:10002573-1742472000-1742473800@www.lustrechristian.org
SUMMARY:Lunch - Spaghetti
DESCRIPTION:
URL:https://www.lustrechristian.org/event/lunch-spaghetti-4/
END:VEVENT
BEGIN:VEVENT
DTSTART;TZID=America/Denver:20250319T120000
DTEND;TZID=America/Denver:20250319T123000
DTSTAMP:20260421T142138
CREATED:20250303T004928Z
LAST-MODIFIED:20250303T004928Z
UID:10002572-1742385600-1742387400@www.lustrechristian.org
SUMMARY:Lunch - KFC Bowls
DESCRIPTION:
URL:https://www.lustrechristian.org/event/lunch-kfc-bowls-4/
END:VEVENT
BEGIN:VEVENT
DTSTART;TZID=America/Denver:20250318T120000
DTEND;TZID=America/Denver:20250318T123000
DTSTAMP:20260421T142138
CREATED:20250303T004847Z
LAST-MODIFIED:20250303T004847Z
UID:10002571-1742299200-1742301000@www.lustrechristian.org
SUMMARY:Lunch - Taco Burgers
DESCRIPTION:
URL:https://www.lustrechristian.org/event/lunch-taco-burgers/
END:VEVENT
BEGIN:VEVENT
DTSTART;TZID=America/Denver:20250317T120000
DTEND;TZID=America/Denver:20250317T123000
DTSTAMP:20260421T142138
CREATED:20250303T004813Z
LAST-MODIFIED:20250303T004813Z
UID:10002570-1742212800-1742214600@www.lustrechristian.org
SUMMARY:Lunch - Hot Dogs
DESCRIPTION:
URL:https://www.lustrechristian.org/event/lunch-hot-dogs-9/
END:VEVENT
BEGIN:VEVENT
DTSTART;TZID=America/Denver:20250317T080000
DTEND;TZID=America/Denver:20250321T170000
DTSTAMP:20260421T142138
CREATED:20250221T153024Z
LAST-MODIFIED:20250221T153024Z
UID:10002558-1742198400-1742576400@www.lustrechristian.org
SUMMARY:Spiritual Emphasis Week
DESCRIPTION:
URL:https://www.lustrechristian.org/event/spiritual-emphasis-week-15/
END:VEVENT
BEGIN:VEVENT
DTSTART;VALUE=DATE:20250315
DTEND;VALUE=DATE:20250316
DTSTAMP:20260421T142138
CREATED:20240807T060729Z
LAST-MODIFIED:20241113T182143Z
UID:10002420-1742025600-1742058000@www.lustrechristian.org
SUMMARY:BBB/GBB - State Tournament In Butte
DESCRIPTION:
URL:https://www.lustrechristian.org/event/bbb-gbb-state-tournament-in-butte/2025-03-15/
END:VEVENT
BEGIN:VEVENT
DTSTART;TZID=America/Denver:20250314T120000
DTEND;TZID=America/Denver:20250314T123000
DTSTAMP:20260421T142138
CREATED:20250303T004734Z
LAST-MODIFIED:20250303T004734Z
UID:10002569-1741953600-1741955400@www.lustrechristian.org
SUMMARY:Lunch - Pizza
DESCRIPTION:
URL:https://www.lustrechristian.org/event/lunch-pizza-12/
END:VEVENT
BEGIN:VEVENT
DTSTART;VALUE=DATE:20250314
DTEND;VALUE=DATE:20250315
DTSTAMP:20260421T142138
CREATED:20240807T060729Z
LAST-MODIFIED:20241113T182143Z
UID:10002419-1741939200-1741971600@www.lustrechristian.org
SUMMARY:BBB/GBB - State Tournament In Butte
DESCRIPTION:
URL:https://www.lustrechristian.org/event/bbb-gbb-state-tournament-in-butte/2025-03-14/
END:VEVENT
BEGIN:VEVENT
DTSTART;VALUE=DATE:20250312
DTEND;VALUE=DATE:20250313
DTSTAMP:20260421T142138
CREATED:20240807T060729Z
LAST-MODIFIED:20241113T182143Z
UID:10002678-1741766400-1741798800@www.lustrechristian.org
SUMMARY:BBB/GBB - State Tournament In Butte
DESCRIPTION:
URL:https://www.lustrechristian.org/event/bbb-gbb-state-tournament-in-butte/2025-03-12/
END:VEVENT
END:VCALENDAR