BEGIN:VCALENDAR
VERSION:2.0
PRODID:-//Lustre Christian High School - ECPv6.15.20//NONSGML v1.0//EN
CALSCALE:GREGORIAN
METHOD:PUBLISH
X-WR-CALNAME:Lustre Christian High School
X-ORIGINAL-URL:https://www.lustrechristian.org
X-WR-CALDESC:Events for Lustre Christian High School
REFRESH-INTERVAL;VALUE=DURATION:PT1H
X-Robots-Tag:noindex
X-PUBLISHED-TTL:PT1H
BEGIN:VTIMEZONE
TZID:America/Denver
BEGIN:DAYLIGHT
TZOFFSETFROM:-0700
TZOFFSETTO:-0600
TZNAME:MDT
DTSTART:20240310T090000
END:DAYLIGHT
BEGIN:STANDARD
TZOFFSETFROM:-0600
TZOFFSETTO:-0700
TZNAME:MST
DTSTART:20241103T080000
END:STANDARD
BEGIN:DAYLIGHT
TZOFFSETFROM:-0700
TZOFFSETTO:-0600
TZNAME:MDT
DTSTART:20250309T090000
END:DAYLIGHT
BEGIN:STANDARD
TZOFFSETFROM:-0600
TZOFFSETTO:-0700
TZNAME:MST
DTSTART:20251102T080000
END:STANDARD
BEGIN:DAYLIGHT
TZOFFSETFROM:-0700
TZOFFSETTO:-0600
TZNAME:MDT
DTSTART:20260308T090000
END:DAYLIGHT
BEGIN:STANDARD
TZOFFSETFROM:-0600
TZOFFSETTO:-0700
TZNAME:MST
DTSTART:20261101T080000
END:STANDARD
END:VTIMEZONE
BEGIN:VEVENT
DTSTART;TZID=America/Denver:20250113T113000
DTEND;TZID=America/Denver:20250113T120000
DTSTAMP:20260419T063004
CREATED:20250106T160108Z
LAST-MODIFIED:20250106T160108Z
UID:10002520-1736767800-1736769600@www.lustrechristian.org
SUMMARY:Spaghetti
DESCRIPTION:
URL:https://www.lustrechristian.org/event/spaghetti-24/
END:VEVENT
BEGIN:VEVENT
DTSTART;TZID=America/Denver:20250111T130000
DTEND;TZID=America/Denver:20250111T190000
DTSTAMP:20260419T063004
CREATED:20240807T055225Z
LAST-MODIFIED:20240807T055225Z
UID:10002397-1736600400-1736622000@www.lustrechristian.org
SUMMARY:BBB/GBB - Home vs Circle 1/2:30/4/5:30
DESCRIPTION:
URL:https://www.lustrechristian.org/event/bbb-gbb-home-vs-circle-1-230-4-530/
END:VEVENT
BEGIN:VEVENT
DTSTART;TZID=America/Denver:20250110T163000
DTEND;TZID=America/Denver:20250110T210000
DTSTAMP:20260419T063004
CREATED:20240807T055138Z
LAST-MODIFIED:20240807T055138Z
UID:10002396-1736526600-1736542800@www.lustrechristian.org
SUMMARY:BBB/GBB - @ Dodson 4:30/6/7:30
DESCRIPTION:
URL:https://www.lustrechristian.org/event/bbb-gbb-dodson-430-6-730/
END:VEVENT
BEGIN:VEVENT
DTSTART;TZID=America/Denver:20250110T120000
DTEND;TZID=America/Denver:20250110T123000
DTSTAMP:20260419T063004
CREATED:20250106T160022Z
LAST-MODIFIED:20250106T160022Z
UID:10002519-1736510400-1736512200@www.lustrechristian.org
SUMMARY:Pizza
DESCRIPTION:
URL:https://www.lustrechristian.org/event/pizza-50/
END:VEVENT
BEGIN:VEVENT
DTSTART;TZID=America/Denver:20250109T113000
DTEND;TZID=America/Denver:20250109T120000
DTSTAMP:20260419T063004
CREATED:20250106T155927Z
LAST-MODIFIED:20250106T155927Z
UID:10002518-1736422200-1736424000@www.lustrechristian.org
SUMMARY:French Toast
DESCRIPTION:
URL:https://www.lustrechristian.org/event/french-toast/
END:VEVENT
BEGIN:VEVENT
DTSTART;TZID=America/Denver:20250108T113000
DTEND;TZID=America/Denver:20250108T120000
DTSTAMP:20260419T063004
CREATED:20250106T155855Z
LAST-MODIFIED:20250106T155855Z
UID:10002517-1736335800-1736337600@www.lustrechristian.org
SUMMARY:BBQ Chicken Sandwich
DESCRIPTION:
URL:https://www.lustrechristian.org/event/bbq-chicken-sandwich-2/
END:VEVENT
BEGIN:VEVENT
DTSTART;TZID=America/Denver:20250107T113000
DTEND;TZID=America/Denver:20250107T120000
DTSTAMP:20260419T063004
CREATED:20250106T155806Z
LAST-MODIFIED:20250106T155806Z
UID:10002516-1736249400-1736251200@www.lustrechristian.org
SUMMARY:Chili Cheese Fries
DESCRIPTION:
URL:https://www.lustrechristian.org/event/chili-cheese-fries-29/
END:VEVENT
END:VCALENDAR