BEGIN:VCALENDAR
VERSION:2.0
PRODID:-//Lustre Christian High School - ECPv6.15.20//NONSGML v1.0//EN
CALSCALE:GREGORIAN
METHOD:PUBLISH
X-WR-CALNAME:Lustre Christian High School
X-ORIGINAL-URL:https://www.lustrechristian.org
X-WR-CALDESC:Events for Lustre Christian High School
REFRESH-INTERVAL;VALUE=DURATION:PT1H
X-Robots-Tag:noindex
X-PUBLISHED-TTL:PT1H
BEGIN:VTIMEZONE
TZID:America/Denver
BEGIN:DAYLIGHT
TZOFFSETFROM:-0700
TZOFFSETTO:-0600
TZNAME:MDT
DTSTART:20240310T090000
END:DAYLIGHT
BEGIN:STANDARD
TZOFFSETFROM:-0600
TZOFFSETTO:-0700
TZNAME:MST
DTSTART:20241103T080000
END:STANDARD
BEGIN:DAYLIGHT
TZOFFSETFROM:-0700
TZOFFSETTO:-0600
TZNAME:MDT
DTSTART:20250309T090000
END:DAYLIGHT
BEGIN:STANDARD
TZOFFSETFROM:-0600
TZOFFSETTO:-0700
TZNAME:MST
DTSTART:20251102T080000
END:STANDARD
BEGIN:DAYLIGHT
TZOFFSETFROM:-0700
TZOFFSETTO:-0600
TZNAME:MDT
DTSTART:20260308T090000
END:DAYLIGHT
BEGIN:STANDARD
TZOFFSETFROM:-0600
TZOFFSETTO:-0700
TZNAME:MST
DTSTART:20261101T080000
END:STANDARD
END:VTIMEZONE
BEGIN:VEVENT
DTSTART;VALUE=DATE:20250306
DTEND;VALUE=DATE:20250307
DTSTAMP:20260421T040609
CREATED:20240807T060603Z
LAST-MODIFIED:20241113T182033Z
UID:10002413-1741248000-1741280400@www.lustrechristian.org
SUMMARY:BBB/GBB - Divisional Tournament In Sidney
DESCRIPTION:
URL:https://www.lustrechristian.org/event/bbb-gbb-divisional-tournament-in-sidney/2025-03-06/
END:VEVENT
BEGIN:VEVENT
DTSTART;VALUE=DATE:20250305
DTEND;VALUE=DATE:20250306
DTSTAMP:20260421T040609
CREATED:20240807T060603Z
LAST-MODIFIED:20241113T182033Z
UID:10002677-1741161600-1741194000@www.lustrechristian.org
SUMMARY:BBB/GBB - Divisional Tournament In Sidney
DESCRIPTION:
URL:https://www.lustrechristian.org/event/bbb-gbb-divisional-tournament-in-sidney/2025-03-05/
END:VEVENT
END:VCALENDAR