BEGIN:VCALENDAR
VERSION:2.0
PRODID:-//Lustre Christian High School - ECPv6.15.20//NONSGML v1.0//EN
CALSCALE:GREGORIAN
METHOD:PUBLISH
X-WR-CALNAME:Lustre Christian High School
X-ORIGINAL-URL:https://www.lustrechristian.org
X-WR-CALDESC:Events for Lustre Christian High School
REFRESH-INTERVAL;VALUE=DURATION:PT1H
X-Robots-Tag:noindex
X-PUBLISHED-TTL:PT1H
BEGIN:VTIMEZONE
TZID:America/Denver
BEGIN:DAYLIGHT
TZOFFSETFROM:-0700
TZOFFSETTO:-0600
TZNAME:MDT
DTSTART:20240310T090000
END:DAYLIGHT
BEGIN:STANDARD
TZOFFSETFROM:-0600
TZOFFSETTO:-0700
TZNAME:MST
DTSTART:20241103T080000
END:STANDARD
BEGIN:DAYLIGHT
TZOFFSETFROM:-0700
TZOFFSETTO:-0600
TZNAME:MDT
DTSTART:20250309T090000
END:DAYLIGHT
BEGIN:STANDARD
TZOFFSETFROM:-0600
TZOFFSETTO:-0700
TZNAME:MST
DTSTART:20251102T080000
END:STANDARD
BEGIN:DAYLIGHT
TZOFFSETFROM:-0700
TZOFFSETTO:-0600
TZNAME:MDT
DTSTART:20260308T090000
END:DAYLIGHT
BEGIN:STANDARD
TZOFFSETFROM:-0600
TZOFFSETTO:-0700
TZNAME:MST
DTSTART:20261101T080000
END:STANDARD
END:VTIMEZONE
BEGIN:VEVENT
DTSTART;TZID=America/Denver:20250410T120000
DTEND;TZID=America/Denver:20250410T123000
DTSTAMP:20260422T065321
CREATED:20250331T144531Z
LAST-MODIFIED:20250331T144545Z
UID:10002588-1744286400-1744288200@www.lustrechristian.org
SUMMARY:Lunch - Chicken Alfredo
DESCRIPTION:
URL:https://www.lustrechristian.org/event/lunch-chicken-alfredo-10/
END:VEVENT
BEGIN:VEVENT
DTSTART;TZID=America/Denver:20250409T113000
DTEND;TZID=America/Denver:20250409T120000
DTSTAMP:20260422T065321
CREATED:20250331T144443Z
LAST-MODIFIED:20250331T144443Z
UID:10002587-1744198200-1744200000@www.lustrechristian.org
SUMMARY:Lunch - Sloppy Joes
DESCRIPTION:
URL:https://www.lustrechristian.org/event/lunch-sloppy-joes-10/
END:VEVENT
BEGIN:VEVENT
DTSTART;TZID=America/Denver:20250408T113000
DTEND;TZID=America/Denver:20250408T120000
DTSTAMP:20260422T065321
CREATED:20250331T144333Z
LAST-MODIFIED:20250331T144333Z
UID:10002586-1744111800-1744113600@www.lustrechristian.org
SUMMARY:Lunch - Pulled Pork Tacos
DESCRIPTION:
URL:https://www.lustrechristian.org/event/lunch-pulled-pork-tacos-3/
END:VEVENT
BEGIN:VEVENT
DTSTART;TZID=America/Denver:20250407T113000
DTEND;TZID=America/Denver:20250407T120000
DTSTAMP:20260422T065321
CREATED:20250331T144255Z
LAST-MODIFIED:20250331T144255Z
UID:10002585-1744025400-1744027200@www.lustrechristian.org
SUMMARY:Lunch - Spaghetti
DESCRIPTION:
URL:https://www.lustrechristian.org/event/lunch-spaghetti-5/
END:VEVENT
BEGIN:VEVENT
DTSTART;TZID=America/Denver:20250404T180000
DTEND;TZID=America/Denver:20250404T220000
DTSTAMP:20260422T065321
CREATED:20250331T145508Z
LAST-MODIFIED:20250331T145508Z
UID:10002601-1743789600-1743804000@www.lustrechristian.org
SUMMARY:Jr./Sr. Banquet
DESCRIPTION:
URL:https://www.lustrechristian.org/event/jr-sr-banquet-3/
END:VEVENT
BEGIN:VEVENT
DTSTART;TZID=America/Denver:20250404T113000
DTEND;TZID=America/Denver:20250404T120000
DTSTAMP:20260422T065321
CREATED:20250331T144204Z
LAST-MODIFIED:20250331T144204Z
UID:10002584-1743766200-1743768000@www.lustrechristian.org
SUMMARY:Lunch - Lasagna
DESCRIPTION:
URL:https://www.lustrechristian.org/event/lunch-lasagna-6/
END:VEVENT
BEGIN:VEVENT
DTSTART;TZID=America/Denver:20250403T120000
DTEND;TZID=America/Denver:20250403T123000
DTSTAMP:20260422T065321
CREATED:20250331T144115Z
LAST-MODIFIED:20250331T144115Z
UID:10002583-1743681600-1743683400@www.lustrechristian.org
SUMMARY:Lunch - Nachos
DESCRIPTION:
URL:https://www.lustrechristian.org/event/lunch-nachos-6/
END:VEVENT
BEGIN:VEVENT
DTSTART;TZID=America/Denver:20250402T113000
DTEND;TZID=America/Denver:20250402T120000
DTSTAMP:20260422T065321
CREATED:20250331T144032Z
LAST-MODIFIED:20250331T144032Z
UID:10002582-1743593400-1743595200@www.lustrechristian.org
SUMMARY:Lunch -Hamburgers
DESCRIPTION:
URL:https://www.lustrechristian.org/event/lunch-hamburgers-11/
END:VEVENT
BEGIN:VEVENT
DTSTART;TZID=America/Denver:20250401T113000
DTEND;TZID=America/Denver:20250401T120000
DTSTAMP:20260422T065321
CREATED:20250331T143937Z
LAST-MODIFIED:20250331T143937Z
UID:10002581-1743507000-1743508800@www.lustrechristian.org
SUMMARY:Lunch - Pancakes
DESCRIPTION:
URL:https://www.lustrechristian.org/event/lunch-pancakes-3/
END:VEVENT
BEGIN:VEVENT
DTSTART;TZID=America/Denver:20250331T120000
DTEND;TZID=America/Denver:20250331T123000
DTSTAMP:20260422T065321
CREATED:20250303T005313Z
LAST-MODIFIED:20250303T005313Z
UID:10002576-1743422400-1743424200@www.lustrechristian.org
SUMMARY:Lunch - Hamburger Gravy over Mashed Potatoes
DESCRIPTION:
URL:https://www.lustrechristian.org/event/lunch-hamburger-gravy-over-mashed-potatoes/
END:VEVENT
BEGIN:VEVENT
DTSTART;TZID=America/Denver:20250328T080000
DTEND;TZID=America/Denver:20250328T170000
DTSTAMP:20260422T065321
CREATED:20250303T005636Z
LAST-MODIFIED:20250303T005636Z
UID:10002580-1743148800-1743181200@www.lustrechristian.org
SUMMARY:No School
DESCRIPTION:
URL:https://www.lustrechristian.org/event/no-school-13/
END:VEVENT
BEGIN:VEVENT
DTSTART;VALUE=DATE:20250328
DTEND;VALUE=DATE:20250329
DTSTAMP:20260422T065321
CREATED:20250210T194802Z
LAST-MODIFIED:20250210T194802Z
UID:10002554-1743120000-1743206399@www.lustrechristian.org
SUMMARY:Schmeckfest
DESCRIPTION:
URL:https://www.lustrechristian.org/event/schmeckfest/
END:VEVENT
END:VCALENDAR